BEGIN:VCALENDAR
VERSION:2.0
PRODID:-//ʻAlohilani - ECPv6.15.13//NONSGML v1.0//EN
CALSCALE:GREGORIAN
METHOD:PUBLISH
X-WR-CALNAME:ʻAlohilani
X-ORIGINAL-URL:https://www.alohilaniresort.com
X-WR-CALDESC:Events for ʻAlohilani
REFRESH-INTERVAL;VALUE=DURATION:PT1H
X-Robots-Tag:noindex
X-PUBLISHED-TTL:PT1H
BEGIN:VTIMEZONE
TZID:Pacific/Honolulu
BEGIN:STANDARD
TZOFFSETFROM:-1000
TZOFFSETTO:-1000
TZNAME:HST
DTSTART:20250101T000000
END:STANDARD
END:VTIMEZONE
BEGIN:VEVENT
DTSTART;TZID=Pacific/Honolulu:20260510T130000
DTEND;TZID=Pacific/Honolulu:20260510T170000
DTSTAMP:20260419T235101
CREATED:20260417T204001Z
LAST-MODIFIED:20260418T005238Z
UID:55663-1778418000-1778432400@www.alohilaniresort.com
SUMMARY:The ʻAlohilani Mother’s Day Experience
DESCRIPTION:Celebrate Mother’s Day at ʻAlohilani Resort Waikiki Beach with an immersive afternoon designed to honor and delight. The ʻAlohilani Mother’s Day Experience invites guests to explore a thoughtfully curated journey from the Oceanarium Lounge to the SWELL pool deck\, where each moment is designed with intention. \nBrowse a vibrant pop-up makeke featuring local makers\, create a personalized bouquet at the floral bar by Love Lola\, and take part in cultural activities such as kukui nut ornament making—each offering a meaningful way to celebrate and connect. \nFor those seeking a more relaxed retreat\, SWELL Pool & Bar offers a special Mother’s Day cabana experience\, complete with a lei greeting\, chilled rosé\, family-friendly bites\, and a spa voucher for an added touch of indulgence. Availability is limited\, and reservations are required through here. \nAs the day unfolds\, enjoy live music that carries seamlessly into sunset\, creating the perfect backdrop for an experience that moves at your own pace—thoughtful\, elevated\, and full of aloha. \nThe ʻAlohilani Mother’s Day Experience
URL:https://www.alohilaniresort.com/event/the-alohilani-mothers-day-experience/
LOCATION:Oceanarium Lounge\, 2490 Kalakaua Avenue\, Honolulu\, HI\, 96815\, United States
CATEGORIES:Featured,Oceanarium
ATTACH;FMTTYPE=image/jpeg:https://www.alohilaniresort.com/wp-content/uploads/2026/04/04.03.2026-ALO-Brand-Pillar-Shoot-2-E17-302.jpg
ORGANIZER;CN="Guest Experience":MAILTO:guestexperience@alohilaniresort.com
END:VEVENT
END:VCALENDAR